BEGIN:VCALENDAR
METHOD:PUBLISH
VERSION:2.0
CALSCALE:GREGORIAN
PRODID:-//NONSGML WPForms//NONSGML Sugar Calendar Feeds v3.10.0//EN
X-WR-CALNAME:JPNA March 2023 Monthly Meeting Agenda
X-WR-CALDESC:EastBoston.com
X-WR-TIMEZONE:America/New_York
BEGIN:VTIMEZONE
TZID:America/New_York
BEGIN:STANDARD
TZOFFSETFROM:-0400
TZOFFSETTO:-0500
DTSTART:20221106T060000
TZNAME:EST
END:STANDARD
BEGIN:DAYLIGHT
TZOFFSETFROM:-0500
TZOFFSETTO:-0400
DTSTART:20230312T070000
TZNAME:EDT
END:DAYLIGHT
END:VTIMEZONE
BEGIN:VTIMEZONE
TZID:America/New_York
BEGIN:STANDARD
TZOFFSETFROM:-0400
TZOFFSETTO:-0500
DTSTART:20221106T060000
TZNAME:EST
END:STANDARD
BEGIN:DAYLIGHT
TZOFFSETFROM:-0500
TZOFFSETTO:-0400
DTSTART:20230312T070000
TZNAME:EDT
END:DAYLIGHT
END:VTIMEZONE
BEGIN:VEVENT
SUMMARY:JPNA March 2023 Monthly Meeting Agenda
DESCRIPTION:Monday\, March 13th\, 2023\n7:00 - 8:30 pm\nZoom Video Confe
 rence\n\nREGISTRATION REQUIRED! PLEASE CLICK HERE TO REGISTER FOR THIS M
 EETING.\n\nIn order to speak aloud as an abutter\, you must live within 
 the 300' radius from the subject property AND you must register for this
  meeting by Sunday\, March 12th at 7pm. Not sure if you're an abutter? S
 earch HERE.\n\n***PLEASE NOTE***In order to qualify to vote at a voting 
 meeting each person must be registered and join the meeting as an indivi
 dual. You will not be counted as an attendee at a meeting should you par
 ticipate in the Zoom call as a couple or family.\n\nThe following is the
  agenda for our upcoming monthly meeting:\n\nAGENDA (subject to change):
 \n\n 	Announcements\n 	Police Update\n 	Nathalia Benitez-Perez\, Mayor's
  Liaison\n 	Tree Eastie - Bill Masterson\n 	District 1 City Councilor - 
 Gabriela Coletta\n 	VOTE - 1 Everett Street - Proposal to erect a new 
 three (3) story mixed-use residential building\, with new ground floor s
 pace for its existing tenant (cross fit studio)\, 14 apartment units on 
 the upper levels\, on-site vehicular parking and related site upgrades a
 t this residential section of the neighborhood.\n\n 	Developer: Richard 
 Garaffo\n 	Represented by: Joseph P. Hanley\, Esq. Thomas P. Miller\, Es
 q.\n\n\n\nAs a reminder\, all questions will be handled via the Zoom cha
 t feature. We ask all attendees to remain muted unless called upon to sp
 eak. Looking forward to "seeing" you all there!\n2023 meeting dates are
  posted at jeffriespoint.org\nMonthly Meeting Dates\nP&amp\;Z Subcommitt
 ee Meeting Dates\n\nJeffries Point Neighborhood Association Board of Dir
 ectors:\nMargaret Farmer | Susan Huang | Josh Schmidt | Andrew Pike |
  Rachel Blomerth
URL;VALUE=URI:https://eastboston.com/events/8192/
UID:urn:uuid:d9356bf0-df84-4e11-b45e-900ba6bacfa5
STATUS:CONFIRMED
ORGANIZER:
DTSTAMP:20260422T181818Z
DTSTART;TZID=America/New_York:20230313T190000
DTEND;TZID=America/New_York:20230313T203000
END:VEVENT
END:VCALENDAR