BEGIN:VCALENDAR
METHOD:PUBLISH
VERSION:2.0
CALSCALE:GREGORIAN
PRODID:-//NONSGML WPForms//NONSGML Sugar Calendar Feeds v3.10.0//EN
X-WR-CALNAME:9 Chelsea Street Proposal before Planning Department
X-WR-CALDESC:EastBoston.com
X-WR-TIMEZONE:America/New_York
BEGIN:VTIMEZONE
TZID:America/New_York
BEGIN:STANDARD
TZOFFSETFROM:-0400
TZOFFSETTO:-0500
DTSTART:20251102T060000
TZNAME:EST
END:STANDARD
BEGIN:DAYLIGHT
TZOFFSETFROM:-0500
TZOFFSETTO:-0400
DTSTART:20260308T070000
TZNAME:EDT
END:DAYLIGHT
END:VTIMEZONE
BEGIN:VTIMEZONE
TZID:America/New_York
BEGIN:STANDARD
TZOFFSETFROM:-0400
TZOFFSETTO:-0500
DTSTART:20251102T060000
TZNAME:EST
END:STANDARD
BEGIN:DAYLIGHT
TZOFFSETFROM:-0500
TZOFFSETTO:-0400
DTSTART:20260308T070000
TZNAME:EDT
END:DAYLIGHT
END:VTIMEZONE
BEGIN:VEVENT
SUMMARY:9 Chelsea Street Proposal before Planning Department
DESCRIPTION:9 Chelsea Street Public Meeting | Virtual Wednesday\, Marc
 h 11\, 2026 | 06:00 PM - 08:00 PM\n\n\n\n\n\nThis is a virtual Public Me
 eting for the proposed project at 9 Chelsea Street\, located in the East
  Boston neighborhood of Boston. The purpose of the meeting is to introdu
 ce the project to the public in order to gather comments and feedback fo
 r the development team.\n\nThe Proposed Project consists of a new six-st
 ory\, mixed-use residential building containing approximately 81\,561 gr
 oss square feet\, 109 residential rental units\, and approximately 2\,87
 5 square feet of ground floor retail and commercial space\, together wit
 h widened sidewalks\, open space\, and related site and building ameniti
 es. The 109 residential units are proposed to be a diverse mix of types 
 including: 16-two-bedroom\, 34-one-bedroom and 59-studio units. The firs
 t floor will provide amenity space for residents to utilize in accordanc
 e with Planning Department policy\, and a 3\,279 square foot rooftop dec
 k for residents. No basement space will be provided.\n\nHow to Participa
 te\n9 Chelsea Street Public Meeting | Virtual Wednesday\, March 11\, 2
 026 | 06:00 PM - 08:00 PM\n\nMeeting ID: 161 173 2923\nRegistration Lin
 k: bosplans.org/9ChelseaStreetPM0311\n\n[Learn more about this event]
URL;VALUE=URI:https://eastboston.com/events/9-chelsea-street-proposal-be
 fore-planning-department/
UID:urn:uuid:44daa346-1765-440e-8b4a-42d55d2105a1
STATUS:CONFIRMED
ORGANIZER:
DTSTAMP:20260421T081309Z
DTSTART;TZID=America/New_York:20260311T180000
DTEND;TZID=America/New_York:20260311T200000
END:VEVENT
END:VCALENDAR