BEGIN:VCALENDAR
METHOD:PUBLISH
VERSION:2.0
CALSCALE:GREGORIAN
PRODID:-//NONSGML WPForms//NONSGML Sugar Calendar Feeds v3.10.0//EN
X-WR-CALNAME:Councilor Coletta Zapata's Town Hall on the City Budget
X-WR-CALDESC:EastBoston.com
X-WR-TIMEZONE:America/New_York
BEGIN:VTIMEZONE
TZID:America/New_York
BEGIN:STANDARD
TZOFFSETFROM:-0400
TZOFFSETTO:-0500
DTSTART:20251102T060000
TZNAME:EST
END:STANDARD
BEGIN:DAYLIGHT
TZOFFSETFROM:-0500
TZOFFSETTO:-0400
DTSTART:20260308T070000
TZNAME:EDT
END:DAYLIGHT
END:VTIMEZONE
BEGIN:VTIMEZONE
TZID:America/New_York
BEGIN:STANDARD
TZOFFSETFROM:-0400
TZOFFSETTO:-0500
DTSTART:20251102T060000
TZNAME:EST
END:STANDARD
BEGIN:DAYLIGHT
TZOFFSETFROM:-0500
TZOFFSETTO:-0400
DTSTART:20260308T070000
TZNAME:EDT
END:DAYLIGHT
END:VTIMEZONE
BEGIN:VEVENT
SUMMARY:Councilor Coletta Zapata's Town Hall on the City Budget
DESCRIPTION:https://eastboston.com/coletta-zapata-announces-community-bu
 dget-town-hall-for-east-boston-march-30/
URL;VALUE=URI:https://eastboston.com/events/councilor-coletta-zapatas-to
 wn-hall-on-the-city-budget/
UID:urn:uuid:31a5b4ab-78ed-4530-bc06-b4c29c8388b0
STATUS:CONFIRMED
ORGANIZER:
DTSTAMP:20260421T083808Z
DTSTART;TZID=America/New_York:20260330T180000
DTEND;TZID=America/New_York:20260330T200000
END:VEVENT
END:VCALENDAR