BEGIN:VCALENDAR
METHOD:PUBLISH
VERSION:2.0
CALSCALE:GREGORIAN
PRODID:-//NONSGML WPForms//NONSGML Sugar Calendar Feeds v3.10.0//EN
X-WR-CALNAME:East Boston Winter/Spring Farmers Market
X-WR-CALDESC:EastBoston.com
X-WR-TIMEZONE:America/New_York
BEGIN:VTIMEZONE
TZID:America/New_York
BEGIN:STANDARD
TZOFFSETFROM:-0400
TZOFFSETTO:-0500
DTSTART:20231105T060000
TZNAME:EST
END:STANDARD
BEGIN:DAYLIGHT
TZOFFSETFROM:-0500
TZOFFSETTO:-0400
DTSTART:20240310T070000
TZNAME:EDT
END:DAYLIGHT
END:VTIMEZONE
BEGIN:VTIMEZONE
TZID:America/New_York
BEGIN:STANDARD
TZOFFSETFROM:-0400
TZOFFSETTO:-0500
DTSTART:20231105T060000
TZNAME:EST
END:STANDARD
BEGIN:DAYLIGHT
TZOFFSETFROM:-0500
TZOFFSETTO:-0400
DTSTART:20240310T070000
TZNAME:EDT
END:DAYLIGHT
END:VTIMEZONE
BEGIN:VEVENT
SUMMARY:East Boston Winter/Spring Farmers Market
DESCRIPTION:When:\n  Thursday\, Mar 21\, 2024 2:00p -\n6:00p\nWhere:\nEB
 NHC Education and Training Institute\n250 Sumner Street\nEast Boston\, M
 assachusetts 02128\n\nAdmission:\nFREE\n\nShop for fresh\, local food in
  East Boston throughout the winter and spring!\n\nThe East Boston Farmer
 s' Market will host mini indoor markets every third Thursday of the mont
 h from November to June (no markets in January and February).\n\nVendors
  include:\n\n*Farmer Dave's (seasonal\, local produce): https://farmerd
 aves.net/\n\n*The Farmhouse Meats &amp\; Cheese (pasture-raised beef\, p
 ork\, chicken\, eggs\, and cheese): https://www.thefarmhousemeats.com/\
 n\n*Sherman &amp\; Cherie's Beezy Bees (raw\, local honey &amp\; honey b
 ased products): https://scbeezybees.com/\n\nAll forms of payment accept
 ed.\n\nSNAP cardholders get at least $40 per month back on their card wh
 en they buy local produce thanks to the Healthy Incentives Program! Lear
 n more about HIP here: https://www.mass.gov/info-details/massachusetts-h
 ealthy-incentives-program-hip\n\nSource: Boston Calendar\n\n&nbsp\;
URL;VALUE=URI:https://eastboston.com/events/east-boston-winter-spring-fa
 rmers-market-2/
UID:urn:uuid:59c201dd-d093-47b3-82e7-cbac0c2fd5dd
STATUS:CONFIRMED
ORGANIZER:
DTSTAMP:20260422T211329Z
DTSTART;TZID=America/New_York:20240321T140000
DTEND;TZID=America/New_York:20240321T140000
END:VEVENT
END:VCALENDAR