BEGIN:VCALENDAR
METHOD:PUBLISH
VERSION:2.0
CALSCALE:GREGORIAN
PRODID:-//NONSGML WPForms//NONSGML Sugar Calendar Feeds v3.10.0//EN
X-WR-CALNAME:Opening Exhibit Small Vein at Atlantic Works Gallery
X-WR-CALDESC:EastBoston.com
X-WR-TIMEZONE:America/New_York
BEGIN:VTIMEZONE
TZID:America/New_York
BEGIN:STANDARD
TZOFFSETFROM:-0400
TZOFFSETTO:-0500
DTSTART:20251102T060000
TZNAME:EST
END:STANDARD
END:VTIMEZONE
BEGIN:VTIMEZONE
TZID:America/New_York
BEGIN:STANDARD
TZOFFSETFROM:-0400
TZOFFSETTO:-0500
DTSTART:20251102T060000
TZNAME:EST
END:STANDARD
END:VTIMEZONE
BEGIN:VEVENT
SUMMARY:Opening Exhibit Small Vein at Atlantic Works Gallery
DESCRIPTION:More details here.\n\n&nbsp\;
URL;VALUE=URI:https://eastboston.com/events/opening-exhibit-small-vein-a
 t-atlantic-works-gallery/
UID:urn:uuid:34332639-a6f9-419d-bce0-cf4f284cb123
STATUS:CONFIRMED
ORGANIZER:
DTSTAMP:20260420T091704Z
DTSTART;TZID=America/New_York:20260307T150000
DTEND;TZID=America/New_York:20260307T180000
END:VEVENT
END:VCALENDAR